BEGIN:VCALENDAR
VERSION:2.0
PRODID:-//Coast Riders - ECPv6.15.20//NONSGML v1.0//EN
CALSCALE:GREGORIAN
METHOD:PUBLISH
X-WR-CALNAME:Coast Riders
X-ORIGINAL-URL:https://coast-riders.org
X-WR-CALDESC:Events for Coast Riders
REFRESH-INTERVAL;VALUE=DURATION:PT1H
X-Robots-Tag:noindex
X-PUBLISHED-TTL:PT1H
BEGIN:VTIMEZONE
TZID:America/Los_Angeles
BEGIN:DAYLIGHT
TZOFFSETFROM:-0800
TZOFFSETTO:-0700
TZNAME:PDT
DTSTART:20140309T100000
END:DAYLIGHT
BEGIN:STANDARD
TZOFFSETFROM:-0700
TZOFFSETTO:-0800
TZNAME:PST
DTSTART:20141102T090000
END:STANDARD
BEGIN:DAYLIGHT
TZOFFSETFROM:-0800
TZOFFSETTO:-0700
TZNAME:PDT
DTSTART:20150308T100000
END:DAYLIGHT
BEGIN:STANDARD
TZOFFSETFROM:-0700
TZOFFSETTO:-0800
TZNAME:PST
DTSTART:20151101T090000
END:STANDARD
BEGIN:DAYLIGHT
TZOFFSETFROM:-0800
TZOFFSETTO:-0700
TZNAME:PDT
DTSTART:20160313T100000
END:DAYLIGHT
BEGIN:STANDARD
TZOFFSETFROM:-0700
TZOFFSETTO:-0800
TZNAME:PST
DTSTART:20161106T090000
END:STANDARD
BEGIN:DAYLIGHT
TZOFFSETFROM:-0800
TZOFFSETTO:-0700
TZNAME:PDT
DTSTART:20170312T100000
END:DAYLIGHT
BEGIN:STANDARD
TZOFFSETFROM:-0700
TZOFFSETTO:-0800
TZNAME:PST
DTSTART:20171105T090000
END:STANDARD
BEGIN:DAYLIGHT
TZOFFSETFROM:-0800
TZOFFSETTO:-0700
TZNAME:PDT
DTSTART:20180311T100000
END:DAYLIGHT
BEGIN:STANDARD
TZOFFSETFROM:-0700
TZOFFSETTO:-0800
TZNAME:PST
DTSTART:20181104T090000
END:STANDARD
BEGIN:DAYLIGHT
TZOFFSETFROM:-0800
TZOFFSETTO:-0700
TZNAME:PDT
DTSTART:20190310T100000
END:DAYLIGHT
BEGIN:STANDARD
TZOFFSETFROM:-0700
TZOFFSETTO:-0800
TZNAME:PST
DTSTART:20191103T090000
END:STANDARD
BEGIN:DAYLIGHT
TZOFFSETFROM:-0800
TZOFFSETTO:-0700
TZNAME:PDT
DTSTART:20200308T100000
END:DAYLIGHT
BEGIN:STANDARD
TZOFFSETFROM:-0700
TZOFFSETTO:-0800
TZNAME:PST
DTSTART:20201101T090000
END:STANDARD
BEGIN:DAYLIGHT
TZOFFSETFROM:-0800
TZOFFSETTO:-0700
TZNAME:PDT
DTSTART:20210314T100000
END:DAYLIGHT
BEGIN:STANDARD
TZOFFSETFROM:-0700
TZOFFSETTO:-0800
TZNAME:PST
DTSTART:20211107T090000
END:STANDARD
BEGIN:DAYLIGHT
TZOFFSETFROM:-0800
TZOFFSETTO:-0700
TZNAME:PDT
DTSTART:20220313T100000
END:DAYLIGHT
BEGIN:STANDARD
TZOFFSETFROM:-0700
TZOFFSETTO:-0800
TZNAME:PST
DTSTART:20221106T090000
END:STANDARD
BEGIN:DAYLIGHT
TZOFFSETFROM:-0800
TZOFFSETTO:-0700
TZNAME:PDT
DTSTART:20230312T100000
END:DAYLIGHT
BEGIN:STANDARD
TZOFFSETFROM:-0700
TZOFFSETTO:-0800
TZNAME:PST
DTSTART:20231105T090000
END:STANDARD
END:VTIMEZONE
BEGIN:VEVENT
DTSTART;TZID=America/Los_Angeles:20220708T120000
DTEND;TZID=America/Los_Angeles:20220710T170000
DTSTAMP:20260419T045843
CREATED:20220121T193348Z
LAST-MODIFIED:20220702T213004Z
UID:10000458-1657281600-1657472400@coast-riders.org
SUMMARY:Laguna Seca Moto America
DESCRIPTION:[vc_row][vc_column][vc_column_text] \nThis is not a club sponsored ride but for your planning purposes only\, ride at your own risk.  Some will ride up Highway 1 on Friday\, Meet for lunch at Cool Cats in SLO at noon\, leave at 1pm. Meet up with the North County folks at the Shell Station in Cambria at 2:00 PM.  We will go to the Pacific Grove Bike Night\, Lighthouse Avenue and 16th Street at 5:30 – 7:30 PM. https://www.pacificgrove.org/events/chamber-events/pacific-grove-moto-bike-night/1728 \nIf you can’t make it for the whole weekend you can ride to just Ragged Point\, Big Sur\, or the Moto Talbott Museum on Carmel Valley Road and head back Friday.  Make your own reservations at Quality Inn\,  2075 N. Fremont St.\, Monterey\, CA 93940 831-373-5551.  Spend the day Saturday and Sunday at the track returning home Sunday after the races.[/vc_column_text][/vc_column][/vc_row]
URL:https://coast-riders.org/calender/laguna-seca-moto-america/
LOCATION:WeatherTech Raceway Laguna Seca\, 1021 Monterey Salinas Hwy\, Salinas\, CA\, 93908\, United States
CATEGORIES:Rides
END:VEVENT
BEGIN:VEVENT
DTSTART;TZID=America/Los_Angeles:20220612T093000
DTEND;TZID=America/Los_Angeles:20220612T140000
DTSTAMP:20260419T045843
CREATED:20190807T141146Z
LAST-MODIFIED:20220705T004540Z
UID:10000401-1655026200-1655042400@coast-riders.org
SUMMARY:Ride to Ragged Point then Main Street Gill in Cambria for Lunch
DESCRIPTION:We will meet at Black Horse Coffee SLO on 1065 Higuera at 9:30 am. Kick stands up at 10:00. \nMeet up with the North County folks at the Shell Station in Cambria at 11:00 and leave there at 11:15 AM. It will be a fun cool ride up the coast. We’ll return to Cambria Main Street Grill for lunch. It’s 79 Miles from Coffee Shop to Ragged point and back to Cambria for lunch. \nThis is an AMA sanctioned road ride free to paid up members and $10:00 for guests to cover sanctioning.
URL:https://coast-riders.org/calender/ride-to-james-dean-memorial-jack-ranch-cafe/
LOCATION:Blackhorse Coffee Shop\, 1065 Higuera St\, San Luis Obispo\, CA\, 93401\, United States
CATEGORIES:Rides
ATTACH;FMTTYPE=image/jpeg:https://coast-riders.org/wp-content/uploads/2020/06/177499779_3851704694866565_5460543361435740828_n.jpg
END:VEVENT
BEGIN:VEVENT
DTSTART;TZID=America/Los_Angeles:20220513T120000
DTEND;TZID=America/Los_Angeles:20220514T170000
DTSTAMP:20260419T045843
CREATED:20210106T200930Z
LAST-MODIFIED:20220506T180439Z
UID:10000424-1652443200-1652547600@coast-riders.org
SUMMARY:Quail Motorcycle Show
DESCRIPTION:May13-14th The Quail Motorcycle Show.  This is not a club sponsored ride but for your information only\, ride at your own risk.  Some will meet for lunch at Kool Kats in San Luis Obispo and leave from there up highway 1. Friday night we can meet for dinner and then attend the show Saturday. If you can’t make it for the whole weekend you can make it a ride to just Ragged Point\, Big Sur\, or the museum and head back Friday.  Make you own reservations at Quality Inn\,  2075 N. Fremont St.\, Monterey\, CA 93940 831-373-5551. For more info go to: \nhttps://www.peninsula.com/en/signature-events/events/motorcycle \n  \n \n 
URL:https://coast-riders.org/calender/quail-motorcycle-show/
LOCATION:Quail Lodge & Golf Club\, 8205 Valley Greens Dr\, Carmel-By-The-Sea\, CA\, 93923\, United States
CATEGORIES:Motorcycle Show,Rides
END:VEVENT
BEGIN:VEVENT
DTSTART;TZID=America/Los_Angeles:20220414T080000
DTEND;TZID=America/Los_Angeles:20220417T170000
DTSTAMP:20260419T045843
CREATED:20220201T034916Z
LAST-MODIFIED:20220203T223520Z
UID:10000461-1649923200-1650214800@coast-riders.org
SUMMARY:Horizon Unlimited MC Travel Convention
DESCRIPTION:[vc_row][vc_column][vc_column_text]An interesting and informative weekend of motorcycle travel talks\, vendors and displays of motorcycle travel equipment and great local riding! For more info go to: https://www.horizonsunlimited.com/events/california-2022[/vc_column_text][/vc_column][/vc_row]
URL:https://coast-riders.org/calender/horizon-unlimited-mc-travel-convention/
LOCATION:Mariposa County Fairgrounds\, 5007 Fairgrounds Road\, Mariposa\, CA\, 95338\, United States
CATEGORIES:Rides
END:VEVENT
BEGIN:VEVENT
DTSTART;TZID=America/Los_Angeles:20210709T090000
DTEND;TZID=America/Los_Angeles:20210711T170000
DTSTAMP:20260419T045843
CREATED:20210604T172515Z
LAST-MODIFIED:20210615T205713Z
UID:10000436-1625821200-1626022800@coast-riders.org
SUMMARY:Geico MotoAmerica Speedfest at Monterey- July 9-11\, 2021
DESCRIPTION:[vc_row][vc_column][vc_column_text]We’d ride up Friday leaving Black Horse Coffee on Higuera at 9 and meet North County Folks at Cambria Shell Station around 10.  We’d have lunch in Big Sur and then go to the Talbot Motorcycle Museum\, 4 E Carmel Valley Rd\, Carmel Valley\, CA 93924.  afterwards check into hotel\, maybe go to motorcycle shop.  Friday Night Bike Night:  The Bike Night in Pacific Grove will take place on Lighthouse Ave between Forest Ave and Congress Ave. Restaurants will be open and ready for riders to enjoy. Live music will be at the Monarch Pub\, and a private reception will be held at the Motorcycle Museum on Forest Ave. Parking starts at 4 PM\, and the festivities go on until 9 PM. No motorcycle is necessary to enjoy Bike Night – just a healthy appetite and a love for motorcycles. All riders and enthusiasts are welcome! \nSat breakfast and go to track and spend the day. \nSat night dinner in Carmel Valley then check out cannery row again \nSunday check out of hotel  and spend day at races\, ride home. \n[/vc_column_text][/vc_column][/vc_row]
URL:https://coast-riders.org/calender/geico-motoamerica-speedfest-at-monterey-july-9-11-2021/
LOCATION:WeatherTech Raceway Laguna Seca\, 1021 Monterey Salinas Hwy\, Salinas\, CA\, 93908\, United States
CATEGORIES:Rides
END:VEVENT
BEGIN:VEVENT
DTSTART;TZID=America/Los_Angeles:20201011T090000
DTEND;TZID=America/Los_Angeles:20201011T150000
DTSTAMP:20260419T045843
CREATED:20190204T150215Z
LAST-MODIFIED:20201008T060959Z
UID:10000396-1602406800-1602428400@coast-riders.org
SUMMARY:Solvang Vintage Motorcycle Museum Ride
DESCRIPTION:Meet (coffee talk) at the Black Horse Coffee Shop\, 1065 Higuera St. San Luis Obispo at 9:00 AM kickstands up at 9:30.  We’ll meet up with the south county folks at the Mobile Gas Station 1220 Betteravia Rd and 101 at 10:30\, leave at 10:45.  Arrive at Museum at approx.11:45 AM.  \nBring your own lunch and we’ll go to the Nojoqui Falls Park afterwards were we can spread out. \nReturn via Santa Rosa Road and Harris Grade.
URL:https://coast-riders.org/calender/solvang-vintage-motorcycle-museum-ride-brunch/
LOCATION:Blackhorse Coffee Shop\, 1065 Higuera St\, San Luis Obispo\, CA\, 93401\, United States
CATEGORIES:Rides
END:VEVENT
BEGIN:VEVENT
DTSTART;TZID=America/Los_Angeles:20200207T080000
DTEND;TZID=America/Los_Angeles:20200207T170000
DTSTAMP:20260419T045843
CREATED:20200127T163328Z
LAST-MODIFIED:20200127T163328Z
UID:10000410-1581062400-1581094800@coast-riders.org
SUMMARY:Ride to Vintage Motorcycle Races at Laguna Seca
DESCRIPTION:Jason Len will lead a ride up Hwy 1 to Weathertech Raceway at Laguna Seca to watch the AHRMA Vintage Motorcycle Races. \nThe plan is to gather at the Graduate at Noon on Friday\, February 7th and ride up Hwy 1. The group will stop in Cambria to fuel up and pick up North county riders. We are planning to stay in a hotel in Monterey. For details contact Jason.
URL:https://coast-riders.org/calender/ride-to-vintage-motorcycle-races-at-laguna-seca/
LOCATION:The Graduate\, 990 Industrial Way\, San Luis Obispo\, CA\, 93401\, United States
CATEGORIES:Rides
ATTACH;FMTTYPE=image/jpeg:https://coast-riders.org/wp-content/uploads/2020/01/Race1-Laguna-Seca.jpg
ORGANIZER;CN="Jason Len":MAILTO:CoastRiders805@gmail.com
END:VEVENT
BEGIN:VEVENT
DTSTART;TZID=America/Los_Angeles:20200101T090000
DTEND;TZID=America/Los_Angeles:20200101T120000
DTSTAMP:20260419T045843
CREATED:20191120T195043Z
LAST-MODIFIED:20191120T195043Z
UID:10000408-1577869200-1577880000@coast-riders.org
SUMMARY:News Year's Day Garage Tour
DESCRIPTION:News Year’s Day Garage Tour leaves 9:00 AM Golden Donut shop in the OSH/ROSS (829 Oak Park Blvd) shopping center in Pismo Beach.
URL:https://coast-riders.org/calender/news-years-day-garage-tour/
LOCATION:OSH/ROSS Shopping Center\, 829 N Oak Park Blvd\, Pismo Beach\, CA\, 93449\, United States
CATEGORIES:Rides
END:VEVENT
BEGIN:VEVENT
DTSTART;TZID=America/Los_Angeles:20191208T080000
DTEND;TZID=America/Los_Angeles:20191208T160000
DTSTAMP:20260419T045843
CREATED:20190123T173331Z
LAST-MODIFIED:20190807T142749Z
UID:10000395-1575792000-1575820800@coast-riders.org
SUMMARY:16th Annual David Mann Chopperfest
DESCRIPTION:
URL:https://coast-riders.org/calender/16th-annual-david-mann-chopperfest/
LOCATION:Ventura County Fairgrounds and Event Center\, 10 W Harbor Blvd\, Ventura\, CA\, 93001\, United States
CATEGORIES:Rides
ATTACH;FMTTYPE=image/jpeg:https://coast-riders.org/wp-content/uploads/2019/01/chopperfest.jpg
END:VEVENT
BEGIN:VEVENT
DTSTART;TZID=America/Los_Angeles:20191207T100000
DTEND;TZID=America/Los_Angeles:20191207T143000
DTSTAMP:20260419T045843
CREATED:20191120T194725Z
LAST-MODIFIED:20191120T194725Z
UID:10000407-1575712800-1575729000@coast-riders.org
SUMMARY:Loading Chute\, Creston Lunch Ride
DESCRIPTION:We will ride to the Loading Chute in Creston for lunch to remember Chris Sidah who passed away Nov. 10th. Meet at Black Horse Coffee shop at 10:00 AM\, kickstands up at 10:30\, meet North county folks at Santa Maria Park at 11:00
URL:https://coast-riders.org/calender/loading-chute-creston-lunch-ride/
LOCATION:Blackhorse Coffee Shop\, 1065 Higuera St\, San Luis Obispo\, CA\, 93401\, United States
CATEGORIES:Rides
END:VEVENT
BEGIN:VEVENT
DTSTART;VALUE=DATE:20190928
DTEND;VALUE=DATE:20190930
DTSTAMP:20260419T045843
CREATED:20190121T200651Z
LAST-MODIFIED:20190808T134154Z
UID:10000380-1569628800-1569801599@coast-riders.org
SUMMARY:SLO Charity Motorcycle Rally & Distinguished Gentleman's Ride
DESCRIPTION:Join Coast Riders for the SLO Charity Motorcycle Rally!\nA weekend of fun activities for all classics\, neo-classics\, cafe racers\, and modern motorcycles. \nREGISTER NOW \nSchedule of Events\nSaturday Sept. 28th\n10am – 4pm\nLocation: 1771 Corbett Canyon Rd\, Arroyo Grande\, CA. 93420\nMotorcycle party including\, people’s choice motorcycle show\, BBQ\, slow riding contest\, games\, and prizes.\n \nSunday Sept. 29th\nMeet at 10am at the BlackHorse Coffee Shop\, 1065 Higuera St. SLO for the start of the Distinguished Gentleman’s Ride.\nLeave for ride at 10:30 and end at noon for lunch.\nPrizes for best dressed and most funds raised.\nThe DGR includes some of the best central coast back country roads you could want and lunch at a classic western cafe.\n*If you plan to ride the Distinguished Gentleman’s Ride\, you must register with DGR directly at gentlemansride.com DGR sign ups don’t open until August 1st. Make sure you go to the SLO Ride and join the Coast Riders Team. \nFor more information contact us \nProceeds go to:\n \n \nThank you to our sponsors:
URL:https://coast-riders.org/calender/slo-mc-festival-distinguished-gentlemans-ride/
LOCATION:CA
CATEGORIES:Rides
ATTACH;FMTTYPE=image/jpeg:https://coast-riders.org/wp-content/uploads/2019/01/dgr-1.jpg
ORGANIZER;CN="Jason Len":MAILTO:CoastRiders805@gmail.com
END:VEVENT
BEGIN:VEVENT
DTSTART;VALUE=DATE:20190712
DTEND;VALUE=DATE:20190715
DTSTAMP:20260419T045843
CREATED:20190118T221216Z
LAST-MODIFIED:20190121T203329Z
UID:10000377-1562889600-1563148799@coast-riders.org
SUMMARY:MOTUL FIM Superbike World Championship GEICO Motorcycle U.S. Round with the MotoAmerica Championship of Monterey
DESCRIPTION:As usual\, we will have a group ride up Hwy 1 lead by Larry “Flash” Coolidge. Ride details to follow… \nLot’s of fun activities up at Laguna Seca. Most of us are camping in the Chaparral area.
URL:https://coast-riders.org/calender/motul-fim-superbike-world-championship-geico-motorcycle-u-s-round-with-the-motoamerica-championship-of-monterey/
LOCATION:WeatherTech Raceway Laguna Seca\, 1021 Monterey Salinas Hwy\, Salinas\, CA\, 93908\, United States
CATEGORIES:Rides
END:VEVENT
BEGIN:VEVENT
DTSTART;TZID=America/Los_Angeles:20190609T100000
DTEND;TZID=America/Los_Angeles:20190609T150000
DTSTAMP:20260419T045843
CREATED:20190603T151923Z
LAST-MODIFIED:20190603T151923Z
UID:10000399-1560074400-1560092400@coast-riders.org
SUMMARY:Ride to Ragged Point
DESCRIPTION:Our June ride will be Sunday June 9th. Meet at the Blackhorse Coffee shop\, 1065 Higuera St. SLO at 10am leave at 10:30pm. Will stop at the Shell station in Cambria to pick up north county riders and then on to Ragged Point on Hwy 1 for lunch. Ride will  led by our trusty road captain\, Larry Coolidge.
URL:https://coast-riders.org/calender/ride-to-ragged-point/
LOCATION:Blackhorse Coffee Shop\, 1065 Higuera St\, San Luis Obispo\, CA\, 93401\, United States
CATEGORIES:Rides
END:VEVENT
BEGIN:VEVENT
DTSTART;TZID=America/Los_Angeles:20190511T093000
DTEND;TZID=America/Los_Angeles:20190511T160000
DTSTAMP:20260419T045843
CREATED:20190121T202415Z
LAST-MODIFIED:20190204T153339Z
UID:10000381-1557567000-1557590400@coast-riders.org
SUMMARY:Warbirds Wings and Wheels Ride
DESCRIPTION:The group ride will leave from the BlackHorse Espresso & Bakery\, 1065 Higuera St\, San Luis Obispo\, CA 93401 at 10:00 am sharp. So get there a bit early (like 9:30 or earlier) if you want a cup of mud and to participate in the normal BS session and bike ogling… \nWe will meander our way up to the Estrella Warbirds Museum.
URL:https://coast-riders.org/calender/warbirds-wings-and-wheels/
LOCATION:Estrella Warbirds Museum\, 4251 Dry Creek Road\, Paso Robles\, 93446\, United States
CATEGORIES:Rides
ORGANIZER;CN="Jason Len":MAILTO:CoastRiders805@gmail.com
END:VEVENT
BEGIN:VEVENT
DTSTART;TZID=America/Los_Angeles:20190504T100000
DTEND;TZID=America/Los_Angeles:20190504T160000
DTSTAMP:20260419T045843
CREATED:20190118T220622Z
LAST-MODIFIED:20190121T202040Z
UID:10000376-1556964000-1556985600@coast-riders.org
SUMMARY:The Quail Motorcycle Gathering
DESCRIPTION:This will be a club group ride. The ride will leave on Friday from the Graduate after lunch. Ride up Hwy 1 and overnight in Monterey.
URL:https://coast-riders.org/calender/the-quail-motorcycle-gathering-2/
LOCATION:Quail Lodge & Golf Club\, 8205 Valley Greens Dr\, Carmel-By-The-Sea\, CA\, 93923\, United States
CATEGORIES:Rides
END:VEVENT
BEGIN:VEVENT
DTSTART;VALUE=DATE:20190426
DTEND;VALUE=DATE:20190429
DTSTAMP:20260419T045843
CREATED:20190118T220146Z
LAST-MODIFIED:20190121T201104Z
UID:10000375-1556236800-1556495999@coast-riders.org
SUMMARY:AHRMA Rounds 7 & 8 Willow Springs
DESCRIPTION:This will be a club group ride leaving from the Graduate on Friday around Noon. \nMore details to follow…
URL:https://coast-riders.org/calender/ahrma-rounds-7-8-willow-springs/
LOCATION:Willow Springs International Raceway\, 3500 75th Street West\, Rosamond\, 93560\, United States
CATEGORIES:Rides
END:VEVENT
BEGIN:VEVENT
DTSTART;TZID=America/Los_Angeles:20190224T100000
DTEND;TZID=America/Los_Angeles:20190224T150000
DTSTAMP:20260419T045843
CREATED:20190118T221836Z
LAST-MODIFIED:20190121T200922Z
UID:10000378-1551002400-1551020400@coast-riders.org
SUMMARY:Club Ride Feb. 2019
DESCRIPTION:Route TBD. \nSubject to weather.
URL:https://coast-riders.org/calender/club-ride-feb-2019/
LOCATION:Blackhorse Coffee Shop\, 1065 Higuera St\, San Luis Obispo\, CA\, 93401\, United States
CATEGORIES:Rides
ORGANIZER;CN="Jason Len":MAILTO:CoastRiders805@gmail.com
END:VEVENT
BEGIN:VEVENT
DTSTART;TZID=America/Los_Angeles:20181111T100000
DTEND;TZID=America/Los_Angeles:20181111T140000
DTSTAMP:20260419T045843
CREATED:20181108T183041Z
LAST-MODIFIED:20181108T183528Z
UID:10000370-1541930400-1541944800@coast-riders.org
SUMMARY:Jalama Beach Burger Ride
DESCRIPTION:Come early and get a up of coffee. Kick stands up at 10:30. \nWe will ride down to Jalama Beach for lunch and their excellent hamburgers. A fun\, relaxing ride. Again don’t be shy! We will have fast and slower riding groups and like the last time we will break the riders up into smaller groups so we are not riding in one big group\, which is not the safest way to ride and makes many members uncomfortable… So no excuse\, come join us for a ride!
URL:https://coast-riders.org/calender/jalama-beach-burger-ride/
LOCATION:Blackhorse Coffee Shop\, 1065 Higuera St\, San Luis Obispo\, CA\, 93401\, United States
CATEGORIES:Rides
ORGANIZER;CN="Jason Len":MAILTO:CoastRiders805@gmail.com
END:VEVENT
BEGIN:VEVENT
DTSTART;TZID=America/Los_Angeles:20181014T103000
DTEND;TZID=America/Los_Angeles:20181014T140000
DTSTAMP:20260419T045843
CREATED:20181002T153345Z
LAST-MODIFIED:20181002T153817Z
UID:10000368-1539513000-1539525600@coast-riders.org
SUMMARY:Parkfield Lunch Ride
DESCRIPTION:Meet at the 10:30am at the Blackhorse Coffee shop\, 1065 Higuera St. for a fun back road ride out to Parkfield for lunch. \nGreat roads and food so plan to attend. \nIf you live in the North county we will meet up with you in Santa Margarita.
URL:https://coast-riders.org/calender/parkfield-lunch-ride/
LOCATION:Blackhorse Coffee Shop\, 1065 Higuera St\, San Luis Obispo\, CA\, 93401\, United States
CATEGORIES:Rides
ORGANIZER;CN="Jason Len":MAILTO:CoastRiders805@gmail.com
END:VEVENT
BEGIN:VEVENT
DTSTART;VALUE=DATE:20180930
DTEND;VALUE=DATE:20181001
DTSTAMP:20260419T045843
CREATED:20180226T165557Z
LAST-MODIFIED:20180226T170628Z
UID:10000347-1538265600-1538351999@coast-riders.org
SUMMARY:Distinguished Gentleman's Ride and BBQ
DESCRIPTION:The Distinguished Gentlemen’s Ride (DGR) is a where classic & vintage style motorcycles unite for prostate cancer and men’s mental health supporting the Movember Foundation. It is held on September 30th\, 2018 Worldwide. \nPlan on a fun event of riding and party for a good cause. We will plan a ride for an hour+ with photos and ends at a MC party and BBQ. \nStart planning on a fun day with your best dapper clothes. \n \nMore details to follow as we get closer to this event.
URL:https://coast-riders.org/calender/distinguished-gentlemans-ride-and-bbq/
LOCATION:Blackhorse Coffee Shop\, 1065 Higuera St\, San Luis Obispo\, CA\, 93401\, United States
CATEGORIES:Rides
ORGANIZER;CN="Jason Len":MAILTO:CoastRiders805@gmail.com
END:VEVENT
BEGIN:VEVENT
DTSTART;TZID=America/Los_Angeles:20180908T080000
DTEND;TZID=America/Los_Angeles:20180908T140000
DTSTAMP:20260419T045843
CREATED:20180831T155131Z
LAST-MODIFIED:20180831T195718Z
UID:10000366-1536393600-1536415200@coast-riders.org
SUMMARY:5th Annual AmpSurf Poker Run
DESCRIPTION:5th Annual AmpSurf Poker Run on 9-8-18 at American Legion Hall\, 417 Orchard Ave\, Arroyo Grande\, CA. Single riders $20.00\, double riders $30.00. Sign-in starts at 8:00 AM. \nNorth County Veterans Poker Run\, on 9-9-18 at the American Legion Hall\, 240 Scott Street\, Paso Robles\, CA. Sign-in starts at 8:00 AM\, $30.00 per person includes run T-Shirt and meal.
URL:https://coast-riders.org/calender/5th-annual-ampsurf-poker-run/
LOCATION:American Legion Hall\, 417 Orchard Ave\, Arroyo Grande\, CA\, 93420\, United States
CATEGORIES:Rides
END:VEVENT
BEGIN:VEVENT
DTSTART;TZID=America/Los_Angeles:20180819T093000
DTEND;TZID=America/Los_Angeles:20180819T140000
DTSTAMP:20260419T045843
CREATED:20180815T163815Z
LAST-MODIFIED:20180815T163815Z
UID:10000364-1534671000-1534687200@coast-riders.org
SUMMARY:Pozo Saloon Lunch Ride
DESCRIPTION:We will meet for coffee at the Budget Cafe in San Luis Obispo at 9:30 AM and leave at 10:00 AM.  \nWe will meet up with the North County riders at the Santa Margarita park and leave at 10:30 ~ish.
URL:https://coast-riders.org/calender/pozo-saloon-lunch-ride/
LOCATION:Budget Cafe\, 3121 S Higuera\, San Luis Obispo\, CA\, 934001\, United States
CATEGORIES:Rides
END:VEVENT
BEGIN:VEVENT
DTSTART;TZID=America/Los_Angeles:20180722T093000
DTEND;TZID=America/Los_Angeles:20180722T170000
DTSTAMP:20260419T045843
CREATED:20180718T151855Z
LAST-MODIFIED:20180718T151855Z
UID:10000362-1532251800-1532278800@coast-riders.org
SUMMARY:Hwy 1 Reopens! Big Sur Lunch Ride
DESCRIPTION:Hi Gang: \nHighway 1 re-opens this Friday so we’ll take a ride up this Sunday to Big Sur for lunch then return. We’ll meet at 9:15 and leave from the Budget Cafe at 9:30 and meet up with the North County folks at the Shell station at the North end of Cambria around 10:30. Hope you can make it. \nLarry
URL:https://coast-riders.org/calender/hwy-1-reopens-big-sur-lunch-ride/
LOCATION:Budget Cafe\, 3121 S Higuera\, San Luis Obispo\, CA\, 934001\, United States
CATEGORIES:Rides
END:VEVENT
BEGIN:VEVENT
DTSTART;TZID=America/Los_Angeles:20180311T103000
DTEND;TZID=America/Los_Angeles:20180311T160000
DTSTAMP:20260419T045843
CREATED:20180115T170535Z
LAST-MODIFIED:20180115T170535Z
UID:10000345-1520764200-1520784000@coast-riders.org
SUMMARY:Cold Springs Tavern Ride
DESCRIPTION:Ride to Cold Springs Tavern for lunch\, music\, and motorcycles.\nIf you have never been to the Cold Springs Tavern on any Sunday it is motorcycle heaven! There are hundreds of different motorcycles\, music\, and good food. A fun ride and social event for the club. \nWe will meet at the Black Horse Coffee Shop 1065 Higuera St. in San Luis Obispo at 10:30AM with kickstands up at 11AM sharp. \nWe will pick up south county members at the Chevron Gas Station located at 1155 E Betteravia Rd\, Santa Maria\, CA 93454. If you meet us at this location\, please be gassed up and ready to roll by 11:45AM. \nThere will be two run groups\, for faster riders and for more relaxed riders.
URL:https://coast-riders.org/calender/cold-springs-tavern-ride/
LOCATION:Blackhorse Coffee Shop\, 1065 Higuera St\, San Luis Obispo\, CA\, 93401\, United States
CATEGORIES:Rides
ORGANIZER;CN="Jason Len":MAILTO:CoastRiders805@gmail.com
END:VEVENT
BEGIN:VEVENT
DTSTART;TZID=America/Los_Angeles:20180225T103000
DTEND;TZID=America/Los_Angeles:20180225T150000
DTSTAMP:20260419T045843
CREATED:20171219T171020Z
LAST-MODIFIED:20171219T171020Z
UID:10000343-1519554600-1519570800@coast-riders.org
SUMMARY:Valentines Day Ride
DESCRIPTION:If you LOVE to ride motorcycles on the back roads of North San Luis Obispo County\, you will LOVE this ride!\nMeet at the Blackhorse Coffee shop at 10:30am. \nKickstands up at 11am sharp! \nWe will plan to meet North County Riders in Santa Margarita at the Hwy 58 junction. \nThen\, head out to The Loading Chute for lunch. \nAfter lunch riding is open to whatever you want to do. \nGroups for all skill levels… so don’t be shy! Come on out and ride! This is mainly a social event to bring central coast MC riders together!
URL:https://coast-riders.org/calender/valentines-day-ride/
LOCATION:Blackhorse Coffee Shop\, 1065 Higuera St\, San Luis Obispo\, CA\, 93401\, United States
CATEGORIES:Rides
ORGANIZER;CN="Jason Len":MAILTO:CoastRiders805@gmail.com
END:VEVENT
BEGIN:VEVENT
DTSTART;VALUE=DATE:20171213
DTEND;VALUE=DATE:20171214
DTSTAMP:20260419T045843
CREATED:20171211T202540Z
LAST-MODIFIED:20171211T202635Z
UID:10000330-1513123200-1513209599@coast-riders.org
SUMMARY:Weekly Ride
DESCRIPTION:We ride (most) Wednesdays. Weather and interest permitting.  \nSince meeting place and ride routes vary\, please join our mailing list to get updates on weekly rides.
URL:https://coast-riders.org/calender/weekly-ride/
LOCATION:CA
CATEGORIES:Rides
ORGANIZER;CN="Jason Len":MAILTO:CoastRiders805@gmail.com
END:VEVENT
BEGIN:VEVENT
DTSTART;VALUE=DATE:20150716
DTEND;VALUE=DATE:20150720
DTSTAMP:20260419T045843
CREATED:20150427T152032Z
LAST-MODIFIED:20150427T152032Z
UID:10000289-1437004800-1437350399@coast-riders.org
SUMMARY:Laguna Seca World Superbike Races
DESCRIPTION:There are several groups going up to Laguna Seca. Some on Thursday July 16th\, and some on Friday\, July 17th\, AND others on Saturday\, July 18th. Come to a Club Meeting and make informal arrangements with club members – if you want to ride up in a group… There is also the Motorhome brigade… See you there! \n 
URL:https://coast-riders.org/calender/laguna-seca-world-superbike-races/
LOCATION:WeatherTech Raceway Laguna Seca\, 1021 Monterey Salinas Hwy\, Salinas\, CA\, 93908\, United States
CATEGORIES:Rides
END:VEVENT
BEGIN:VEVENT
DTSTART;TZID=America/Los_Angeles:20150712T090000
DTEND;TZID=America/Los_Angeles:20150712T160000
DTSTAMP:20260419T045843
CREATED:20150427T151311Z
LAST-MODIFIED:20150427T151311Z
UID:10000288-1436691600-1436716800@coast-riders.org
SUMMARY:Club Ride July 2015
DESCRIPTION:Route TBD
URL:https://coast-riders.org/calender/club-ride-july-2015/
LOCATION:SLO Motorsports\, 2140 Santa Barbara Ave\, San Luis Obispo\, CA\, 93401\, United States
CATEGORIES:Rides
END:VEVENT
BEGIN:VEVENT
DTSTART;TZID=America/Los_Angeles:20150614T090000
DTEND;TZID=America/Los_Angeles:20150614T170000
DTSTAMP:20260419T045843
CREATED:20150402T150847Z
LAST-MODIFIED:20150609T042155Z
UID:10000287-1434272400-1434301200@coast-riders.org
SUMMARY:Club Ride June
DESCRIPTION:  \nRide departs at 9:30 for a leisurely ride to the Warbirds Museum in Paso Robles using some of North County’s finest back roads.  Spend some time going thru the Museum and then proceed to the Loading Chute for Lunch.
URL:https://coast-riders.org/calender/club-ride-june-overnighter/
LOCATION:SLO Motorsports\, 2140 Santa Barbara Ave\, San Luis Obispo\, CA\, 93401\, United States
CATEGORIES:Rides
END:VEVENT
BEGIN:VEVENT
DTSTART;TZID=America/Los_Angeles:20150524T093000
DTEND;TZID=America/Los_Angeles:20150524T150000
DTSTAMP:20260419T045843
CREATED:20150521T142624Z
LAST-MODIFIED:20150521T142624Z
UID:10000291-1432459800-1432479600@coast-riders.org
SUMMARY:Women's Group Ride to McKittrick
DESCRIPTION:We are meeting at Santa Margarita Park at 9:30 for a ride to McKittrick (Penny Bar) on Sunday\, May 24
URL:https://coast-riders.org/calender/womens-group-ride-to-mckittrick/
LOCATION:Santa Margarita Park\, 2210 H St\, Santa Margarita\, 93453\, United States
CATEGORIES:Ladies Only,Rides
END:VEVENT
END:VCALENDAR