BEGIN:VCALENDAR
VERSION:2.0
PRODID:-//Coast Riders - ECPv6.15.15//NONSGML v1.0//EN
CALSCALE:GREGORIAN
METHOD:PUBLISH
X-ORIGINAL-URL:https://coast-riders.org
X-WR-CALDESC:Events for Coast Riders
REFRESH-INTERVAL;VALUE=DURATION:PT1H
X-Robots-Tag:noindex
X-PUBLISHED-TTL:PT1H
BEGIN:VTIMEZONE
TZID:America/Los_Angeles
BEGIN:DAYLIGHT
TZOFFSETFROM:-0800
TZOFFSETTO:-0700
TZNAME:PDT
DTSTART:20240310T100000
END:DAYLIGHT
BEGIN:STANDARD
TZOFFSETFROM:-0700
TZOFFSETTO:-0800
TZNAME:PST
DTSTART:20241103T090000
END:STANDARD
BEGIN:DAYLIGHT
TZOFFSETFROM:-0800
TZOFFSETTO:-0700
TZNAME:PDT
DTSTART:20250309T100000
END:DAYLIGHT
BEGIN:STANDARD
TZOFFSETFROM:-0700
TZOFFSETTO:-0800
TZNAME:PST
DTSTART:20251102T090000
END:STANDARD
BEGIN:DAYLIGHT
TZOFFSETFROM:-0800
TZOFFSETTO:-0700
TZNAME:PDT
DTSTART:20260308T100000
END:DAYLIGHT
BEGIN:STANDARD
TZOFFSETFROM:-0700
TZOFFSETTO:-0800
TZNAME:PST
DTSTART:20261101T090000
END:STANDARD
END:VTIMEZONE
BEGIN:VEVENT
DTSTART;TZID=America/Los_Angeles:20250528T183000
DTEND;TZID=America/Los_Angeles:20250528T200000
DTSTAMP:20260201T121055
CREATED:20250506T184233Z
LAST-MODIFIED:20250521T000354Z
UID:10000510-1748457000-1748462400@coast-riders.org
SUMMARY:Monthly meeting May 28 presentation on 32nd Annual VJLA Death Valley Ride Note New Venue:  Woodstock Pizza
DESCRIPTION:[vc_row][vc_column][vc_column_text] \nWe’ll have a photo presentation on the 32nd Annual Death Valley ride put on by the Vintage Japanese Los Angeles Club April 5th thru April 7th going from Lancaster CA to Tecopa Hot Springs riding across vast desert landscapes and visiting near-ghost towns.  Note new venue\, we’ll be at Woodstock Pizza 1000 Higuera Street\, San Luis Obispo\, CA 93401 in the back room. \n[/vc_column_text][/vc_column][/vc_row]
URL:https://coast-riders.org/calender/monthly-meeting-may-28-presentation-on-29th-annual-vjla-death-valley-ride-by-rahul-matt-and-larry/
LOCATION:Woodstock Pizza\, 1000 Higuera Street\, San Luis Obispo\, CA\, 93401
CATEGORIES:Monthly Meeting
ATTACH;FMTTYPE=image/jpeg:https://coast-riders.org/wp-content/uploads/2025/05/IMG_20250408_122120-1-scaled-e1746556258610.jpg
END:VEVENT
END:VCALENDAR